BEGIN:VCALENDAR
VERSION:2.0
PRODID:-//Barnegat Township New Jersey - ECPv6.2.6//NONSGML v1.0//EN
CALSCALE:GREGORIAN
METHOD:PUBLISH
X-WR-CALNAME:Barnegat Township New Jersey
X-ORIGINAL-URL:https://www.barnegat.net
X-WR-CALDESC:Events for Barnegat Township New Jersey
REFRESH-INTERVAL;VALUE=DURATION:PT1H
X-Robots-Tag:noindex
X-PUBLISHED-TTL:PT1H
BEGIN:VTIMEZONE
TZID:America/New_York
BEGIN:DAYLIGHT
TZOFFSETFROM:-0500
TZOFFSETTO:-0400
TZNAME:EDT
DTSTART:20230312T070000
END:DAYLIGHT
BEGIN:STANDARD
TZOFFSETFROM:-0400
TZOFFSETTO:-0500
TZNAME:EST
DTSTART:20231105T060000
END:STANDARD
END:VTIMEZONE
BEGIN:VEVENT
DTSTART;TZID=America/New_York:20231205T100000
DTEND;TZID=America/New_York:20231205T120000
DTSTAMP:20260421T002630
CREATED:20230531T184404Z
LAST-MODIFIED:20230531T184443Z
UID:10006076-1701770400-1701777600@www.barnegat.net
SUMMARY:Committee Meeting
DESCRIPTION:
URL:https://www.barnegat.net/event/committee-meeting/2023-12-05/
CATEGORIES:Meetings
END:VEVENT
BEGIN:VEVENT
DTSTART;VALUE=DATE:20231225
DTEND;VALUE=DATE:20231226
DTSTAMP:20260421T002630
CREATED:20230322T163851Z
LAST-MODIFIED:20230322T164126Z
UID:10006034-1703491200-1703523600@www.barnegat.net
SUMMARY:Town Hall Closed
DESCRIPTION:Holiday
URL:https://www.barnegat.net/event/town-hall-closed/2023-12-25/
END:VEVENT
END:VCALENDAR